BEGIN:VCALENDAR
VERSION:2.0
PRODID:-//SVP Wahlkreis Hochdorf //NONSGML Events //EN
CALSCALE:GREGORIAN
X-WR-CALNAME:SVP Wahlkreis Hochdorf
BEGIN:VEVENT
CREATED:20260325T122949Z
UID:32290
DTEND:20260519T200000
DTSTART:20260519T193000
DTSTAMP:20260426T015930Z
LOCATION:Le Théâtre\, Grand Salle in Emmen
DESCRIPTION:Anlass zu wichtigen Abstimmungen zur Schweizer Zukunft mit:
Dr. Ueli S
SUMMARY:Veranstaltung zur Zukunft unserer Schweiz
ORGANIZER:SVP Emmen
URL;VALUE=URI:https://www.svp-wahlkreishochdorf.ch/termine/anlass-der-svp-emmen/
TRANSP:OPAQUE
END:VEVENT
END:VCALENDAR
