BEGIN:VCALENDAR
VERSION:2.0
PRODID:-//SVP Wahlkreis Hochdorf //NONSGML Events //EN
CALSCALE:GREGORIAN
X-WR-CALNAME:SVP Wahlkreis Hochdorf
BEGIN:VEVENT
CREATED:20260318T092115Z
UID:32283
DTEND:20260504T200000
DTSTART:20260504T193000
DTSTAMP:20260426T015932Z
LOCATION:Gemeindezentrum Büron
DESCRIPTION:
SUMMARY:Podiumsdiskussion 10-Mio. Schweiz
ORGANIZER:SVP Büron
URL;VALUE=URI:https://www.svp-wahlkreishochdorf.ch/termine/podiumsdiskussion-10-mio-schweiz/
TRANSP:OPAQUE
END:VEVENT
END:VCALENDAR
