BEGIN:VCALENDAR
VERSION:2.0
PRODID:-//SVP Wahlkreis Hochdorf //NONSGML Events //EN
CALSCALE:GREGORIAN
X-WR-CALNAME:SVP Wahlkreis Hochdorf
BEGIN:VEVENT
CREATED:20251214T082042Z
UID:32257
DTEND:20261206T000000
DTSTART:20261206T000000
DTSTAMP:20260426T033005Z
LOCATION:Emmen
DESCRIPTION:
SUMMARY:Chlaus Höck
ORGANIZER:
URL;VALUE=URI:https://www.svp-wahlkreishochdorf.ch/termine/chlaus-hoeck/
TRANSP:OPAQUE
END:VEVENT
END:VCALENDAR
