BEGIN:VCALENDAR
VERSION:2.0
PRODID:-//SVP Wahlkreis Hochdorf //NONSGML Events //EN
CALSCALE:GREGORIAN
X-WR-CALNAME:SVP Wahlkreis Hochdorf
BEGIN:VEVENT
CREATED:20250918T131703Z
UID:32108
DTEND:20261224T000000
DTSTART:20261224T000000
DTSTAMP:20260426T033342Z
LOCATION:
DESCRIPTION:
SUMMARY:Heiliger Abend
ORGANIZER:
URL;VALUE=URI:https://www.svp-wahlkreishochdorf.ch/termine/heiliger-abend-8/
TRANSP:OPAQUE
END:VEVENT
END:VCALENDAR
