BEGIN:VCALENDAR
VERSION:2.0
PRODID:-//SVP Wahlkreis Hochdorf //NONSGML Events //EN
CALSCALE:GREGORIAN
X-WR-CALNAME:SVP Wahlkreis Hochdorf
BEGIN:VEVENT
CREATED:20250918T131704Z
UID:32084
DTEND:20260801T000000
DTSTART:20260801T000000
DTSTAMP:20260426T020206Z
LOCATION:
DESCRIPTION:
SUMMARY:Nationalfeiertag
ORGANIZER:
URL;VALUE=URI:https://www.svp-wahlkreishochdorf.ch/termine/nationalfeiertag-8/
TRANSP:OPAQUE
END:VEVENT
END:VCALENDAR
