BEGIN:VCALENDAR
VERSION:2.0
PRODID:-//SVP Wahlkreis Hochdorf //NONSGML Events //EN
CALSCALE:GREGORIAN
X-WR-CALNAME:SVP Wahlkreis Hochdorf
BEGIN:VEVENT
CREATED:20250918T131706Z
UID:32040
DTEND:20260820T000000
DTSTART:20260820T000000
DTSTAMP:20260426T020206Z
LOCATION:
DESCRIPTION:
SUMMARY:Sitzung Parteileitung
ORGANIZER:
URL;VALUE=URI:https://www.svp-wahlkreishochdorf.ch/termine/sitzung-parteileitung-15/
TRANSP:OPAQUE
END:VEVENT
END:VCALENDAR
