BEGIN:VCALENDAR
VERSION:2.0
PRODID:-//SVP Wahlkreis Hochdorf //NONSGML Events //EN
CALSCALE:GREGORIAN
X-WR-CALNAME:SVP Wahlkreis Hochdorf
BEGIN:VEVENT
CREATED:20221006T043147Z
UID:24474
DTEND:20231224T000000
DTSTART:20231224T000000
DTSTAMP:20260422T014417Z
LOCATION:
DESCRIPTION:
SUMMARY:Heiliger Abend
ORGANIZER:
URL;VALUE=URI:https://www.svp-wahlkreishochdorf.ch/termine/heiliger-abend-5/
TRANSP:OPAQUE
END:VEVENT
END:VCALENDAR
